BEGIN:VCALENDAR
VERSION:2.0
PRODID:-//American Club of Lyon - ECPv6.15.20//NONSGML v1.0//EN
CALSCALE:GREGORIAN
METHOD:PUBLISH
X-WR-CALNAME:American Club of Lyon
X-ORIGINAL-URL:https://americanclublyon.org
X-WR-CALDESC:Events for American Club of Lyon
REFRESH-INTERVAL;VALUE=DURATION:PT1H
X-Robots-Tag:noindex
X-PUBLISHED-TTL:PT1H
BEGIN:VTIMEZONE
TZID:Europe/Paris
BEGIN:DAYLIGHT
TZOFFSETFROM:+0100
TZOFFSETTO:+0200
TZNAME:CEST
DTSTART:20250330T010000
END:DAYLIGHT
BEGIN:STANDARD
TZOFFSETFROM:+0200
TZOFFSETTO:+0100
TZNAME:CET
DTSTART:20251026T010000
END:STANDARD
BEGIN:DAYLIGHT
TZOFFSETFROM:+0100
TZOFFSETTO:+0200
TZNAME:CEST
DTSTART:20260329T010000
END:DAYLIGHT
BEGIN:STANDARD
TZOFFSETFROM:+0200
TZOFFSETTO:+0100
TZNAME:CET
DTSTART:20261025T010000
END:STANDARD
BEGIN:DAYLIGHT
TZOFFSETFROM:+0100
TZOFFSETTO:+0200
TZNAME:CEST
DTSTART:20270328T010000
END:DAYLIGHT
BEGIN:STANDARD
TZOFFSETFROM:+0200
TZOFFSETTO:+0100
TZNAME:CET
DTSTART:20271031T010000
END:STANDARD
END:VTIMEZONE
BEGIN:VEVENT
DTSTART;TZID=Europe/Paris:20260122T180000
DTEND;TZID=Europe/Paris:20260122T190000
DTSTAMP:20260421T105358
CREATED:20260105T101815Z
LAST-MODIFIED:20260108T205504Z
UID:16459-1769104800-1769108400@americanclublyon.org
SUMMARY:Investor's Circle
DESCRIPTION:This group will have a virtual meeting to discuss investment news and strategies.
URL:https://americanclublyon.org/event/investors-circle/
LOCATION:Online
END:VEVENT
BEGIN:VEVENT
DTSTART;TZID=Europe/Paris:20260121T170000
DTEND;TZID=Europe/Paris:20260121T190000
DTSTAMP:20260421T105358
CREATED:20260105T101815Z
LAST-MODIFIED:20260108T205705Z
UID:16487-1769014800-1769022000@americanclublyon.org
SUMMARY:Deux Langues\, Un Verre
DESCRIPTION:A spirited blend of learning and libations\, this weekly exchange will help you perfect your French while sipping wine or practice your English over a pint. As the drinks flow\, hear your accent improve (or at least believe it does). No pressure and no need to RSVP\, just natural conversation flowing as smoothly as your beverage of choice. \nThis event is open to both members AND non-members. \nHost: Sam Finnochio
URL:https://americanclublyon.org/event/deux-langues-un-verre-3/
LOCATION:MOS Pub Mercière\, 35 Rue Mercière\, Lyon\, 69002\, France
END:VEVENT
END:VCALENDAR