BEGIN:VCALENDAR
VERSION:2.0
PRODID:-//American Club of Lyon - ECPv6.15.20//NONSGML v1.0//EN
CALSCALE:GREGORIAN
METHOD:PUBLISH
X-WR-CALNAME:American Club of Lyon
X-ORIGINAL-URL:https://americanclublyon.org
X-WR-CALDESC:Events for American Club of Lyon
REFRESH-INTERVAL;VALUE=DURATION:PT1H
X-Robots-Tag:noindex
X-PUBLISHED-TTL:PT1H
BEGIN:VTIMEZONE
TZID:Europe/Paris
BEGIN:DAYLIGHT
TZOFFSETFROM:+0100
TZOFFSETTO:+0200
TZNAME:CEST
DTSTART:20250330T010000
END:DAYLIGHT
BEGIN:STANDARD
TZOFFSETFROM:+0200
TZOFFSETTO:+0100
TZNAME:CET
DTSTART:20251026T010000
END:STANDARD
BEGIN:DAYLIGHT
TZOFFSETFROM:+0100
TZOFFSETTO:+0200
TZNAME:CEST
DTSTART:20260329T010000
END:DAYLIGHT
BEGIN:STANDARD
TZOFFSETFROM:+0200
TZOFFSETTO:+0100
TZNAME:CET
DTSTART:20261025T010000
END:STANDARD
BEGIN:DAYLIGHT
TZOFFSETFROM:+0100
TZOFFSETTO:+0200
TZNAME:CEST
DTSTART:20270328T010000
END:DAYLIGHT
BEGIN:STANDARD
TZOFFSETFROM:+0200
TZOFFSETTO:+0100
TZNAME:CET
DTSTART:20271031T010000
END:STANDARD
END:VTIMEZONE
BEGIN:VEVENT
DTSTART;TZID=Europe/Paris:20260120T093000
DTEND;TZID=Europe/Paris:20260120T113000
DTSTAMP:20260421T002025
CREATED:20260105T101815Z
LAST-MODIFIED:20260105T105152Z
UID:16458-1768901400-1768908600@americanclublyon.org
SUMMARY:Coffee Chat
DESCRIPTION:Each week\, a friendly mix of regulars\, newcomers\, and curious visitors come together to swap stories\, share tips\, and enjoy warm conversation. Whether you just arrived in Lyon or have called it home for years\, there’s always room for you at the table—and a hot (or cold) drink waiting.\n   \nAny last minute changes are announced on the ACL Facebook page and in the ACL Members Facebook group by Joe CoffeeChat.  Be sure to Like the Page or friend Joe CoffeeChat to get notifications on Coffee Chat.
URL:https://americanclublyon.org/event/coffee-chat-21/
LOCATION:Le Perko Café\, 8 Pl. du Griffon\, Lyon\, 69001\, France
ATTACH;FMTTYPE=image/png:https://americanclublyon.org/site/wp-content/uploads/2025/10/ACL-Assets_WEBSITE.png
END:VEVENT
END:VCALENDAR